BEGIN:VCALENDAR
VERSION:2.0
PRODID:-//Ziber2013/
CALSCALE:GREGORIAN
BEGIN:VEVENT
UID:239768@https://www.aloysiusgouda.nl
DTSTART:20260708T083000
DTEND:20260708T120000
SUMMARY:Verjaardag juffen & meesters
DESCRIPTION:
LOCATION:St. Aloysiusschool\, Spieringstraat 18\, 2801 ZM Gouda
ATTACH;FMTTYPE=image/jpeg:/content/monsterGallery/birthday.png?width=1600&height=1200
SEQUENCE:0
DTSTAMP:20260420T165838
END:VEVENT
END:VCALENDAR
