BEGIN:VCALENDAR
VERSION:2.0
PRODID:-//Ziber2013/
CALSCALE:GREGORIAN
BEGIN:VEVENT
UID:239786@https://www.aloysiusgouda.nl
DTSTART:20260621T000000
DTEND:20260621T235959
SUMMARY:Vaderdag
DESCRIPTION:
LOCATION:St. Aloysiusschool\, Spieringstraat 18\, 2801 ZM Gouda
X-MICROSOFT-CDO-ALLDAYEVENT:TRUE
ATTACH;FMTTYPE=image/jpeg:/content/monsterGallery/fathersday.png?width=1600&height=1200
SEQUENCE:0
DTSTAMP:20260420T170902
END:VEVENT
END:VCALENDAR
